BEGIN:VCALENDAR
VERSION:2.0
PRODID:-//Lower Frederick Township - ECPv6.15.17.1//NONSGML v1.0//EN
CALSCALE:GREGORIAN
METHOD:PUBLISH
X-ORIGINAL-URL:https://lowerfrederick.org
X-WR-CALDESC:Events for Lower Frederick Township
REFRESH-INTERVAL;VALUE=DURATION:PT1H
X-Robots-Tag:noindex
X-PUBLISHED-TTL:PT1H
BEGIN:VTIMEZONE
TZID:UTC
BEGIN:STANDARD
TZOFFSETFROM:+0000
TZOFFSETTO:+0000
TZNAME:UTC
DTSTART:20250101T000000
END:STANDARD
END:VTIMEZONE
BEGIN:VTIMEZONE
TZID:America/New_York
BEGIN:DAYLIGHT
TZOFFSETFROM:-0500
TZOFFSETTO:-0400
TZNAME:EDT
DTSTART:20250309T070000
END:DAYLIGHT
BEGIN:STANDARD
TZOFFSETFROM:-0400
TZOFFSETTO:-0500
TZNAME:EST
DTSTART:20251102T060000
END:STANDARD
BEGIN:DAYLIGHT
TZOFFSETFROM:-0500
TZOFFSETTO:-0400
TZNAME:EDT
DTSTART:20260308T070000
END:DAYLIGHT
BEGIN:STANDARD
TZOFFSETFROM:-0400
TZOFFSETTO:-0500
TZNAME:EST
DTSTART:20261101T060000
END:STANDARD
BEGIN:DAYLIGHT
TZOFFSETFROM:-0500
TZOFFSETTO:-0400
TZNAME:EDT
DTSTART:20270314T070000
END:DAYLIGHT
BEGIN:STANDARD
TZOFFSETFROM:-0400
TZOFFSETTO:-0500
TZNAME:EST
DTSTART:20271107T060000
END:STANDARD
END:VTIMEZONE
BEGIN:VEVENT
DTSTART;VALUE=DATE:20260420
DTEND;VALUE=DATE:20260422
DTSTAMP:20260421T105748
CREATED:20260417T135042Z
LAST-MODIFIED:20260417T135042Z
UID:14521-1776643200-1776815999@lowerfrederick.org
SUMMARY:Township Office Closed
DESCRIPTION:
URL:https://lowerfrederick.org/event/township-office-closed-11/
END:VEVENT
BEGIN:VEVENT
DTSTART;TZID=America/New_York:20260428T190000
DTEND;TZID=America/New_York:20260428T190000
DTSTAMP:20260421T105748
CREATED:20260115T174126Z
LAST-MODIFIED:20260115T174126Z
UID:14322-1777402800-1777402800@lowerfrederick.org
SUMMARY:7:00 pm Board of Supervisors Work Session
DESCRIPTION:
URL:https://lowerfrederick.org/event/700-pm-board-of-supervisors-work-session-51/
LOCATION:Lower Frederick Township Building\, 53 Spring Mount Road\, Schwenksville\, PA\, 19473
END:VEVENT
END:VCALENDAR